{"text_format":"1","workbook":"xlsx","n_sheets":4,"sheets":["Scheidsrechtersblad","Wedstrijdbladen","handicap_heren","handicap_dames"],"not_rendered":{"charts":0,"images":0,"macros":1,"external_links":0,"defined_names":0,"comments":0,"pivot_tables":0},"unopened":[],"bounds":{"document_bytes":16777216,"sheet_cells":100000,"rows_first":2000,"rows_last":500,"rows_between":2000,"halvings":0,"cell_chars":16384,"cell_head_chars":4096},"cells_cut":0,"cells_raw":0,"read":"whole","date_system":"1900"}

{"sheet":"Scheidsrechtersblad","index":0,"n_rows":38,"n_cols":18,"rows_kept":38,"cut":false,"hidden":false,"merged":[[31,0,33,3],[34,0,36,3],[37,0,39,3],[37,4,39,6],[31,7,33,9],[34,7,36,9],[37,7,39,9],[31,4,33,6],[34,4,36,6],[30,4,30,6],[30,7,30,9],[19,4,19,13],[31,11,39,17],[30,11,30,17],[13,10,13,17],[14,11,14,13],[19,0,19,2],[19,14,19,15],[14,1,14,4],[19,16,19,17],[17,11,17,15],[16,11,16,15],[15,11,15,15],[17,1,17,6],[16,1,16,6],[15,1,15,6],[9,11,9,12],[9,15,9,16],[7,15,7,16],[5,15,5,16],[1,4,1,14],[9,3,9,8],[7,3,7,8],[5,3,5,8]]}
[]
[null,null,null,null,"BEKER  VLAAMS BRABANT EN BRUSSEL"]
[]
[]
[]
[null,null,"Lokaal ","Grand Slam Tienen",null,null,null,null,null,null,null,null,null,null,"Datum","2024-01-03"]
[]
[null,null,null,"Tennis straat 3",null,null,null,null,null,null,"Afdeling",null,false,null,"Aanvang","20:00:00"]
[]
[null,null,null,"3300 Tienen",null,null,null,null,null,null,"Wedstrijdnr","BVLBH01/002",null,null,"Einde"]
[]
[]
[]
["THUISPLOEG",null,null,null,null,null,null,null,null,null,"BEZOEKERS"]
["CLUB:","Grand Slam Sukarti B",null,null,null,"Vl-B:",330,"Klass.","Ind. Ov.",null,"CLUB : ",null,null,null,"Vl-B:",330,"Klass.","Ind. Ov."]
["1.",null,null,null,null,null,null,null," ",null,"1."]
["2.",null,null,null,null,null,null,null,null,null,"2."]
["3.",null,null,null,null,null,null,null,null,null,"3."]
[]
["Wedstr.",null,null,"Hand.","Punten met handicap",null,null,null,null,null,null,null,null,null,"Sets",null,"Wedstr."]
[1,3,2,{"$f":"handicap(H18,Q17,$M$8)","v":""}]
[2,2,1,{"$f":"handicap(H17,Q16,$M$8)","v":""}]
[3,1,3,{"$f":"handicap(H16,Q18,$M$8)","v":""}]
[4,3,1,{"$f":"handicap(H18,Q16,$M$8)","v":""}]
[5,2,3,{"$f":"handicap(H17,Q18,$M$8)","v":""}]
[6,1,2,{"$f":"handicap(H16,Q17,$M$8)","v":""}]
[7,3,3,{"$f":"handicap(H18,Q18,$M$8)","v":""}]
[8,2,2,{"$f":"handicap(H17,Q17,$M$8)","v":""}]
[9,1,1,{"$f":"handicap(H16,Q16,$M$8)","v":""}]
[]
[null,null,null,null,"Naam",null,null,"Handtekening",null,null,null,"Eventueel voorbehoud :"]
["Kapitein thuisploeg"]
[]
[]
["Kapitein bezoekers"]
[]
[]
["Hoofdscheidsrechter"]

{"sheet":"Wedstrijdbladen","index":1,"n_rows":34,"n_cols":23,"rows_kept":34,"cut":false,"hidden":false,"merged":[[15,1,15,2],[15,3,15,5],[15,6,15,10],[8,15,8,17],[8,6,8,10],[8,3,8,5],[12,15,12,17],[19,15,19,17],[19,18,19,22],[15,15,15,17],[15,18,15,22],[15,13,15,14],[29,1,29,2],[22,3,22,5],[22,6,22,10],[19,3,19,5],[19,6,19,10],[26,18,26,22],[26,15,26,17],[22,15,22,17],[22,18,22,22],[22,1,22,2],[22,13,22,14],[33,6,33,10],[33,3,33,5],[29,3,29,5],[29,6,29,10],[26,6,26,10],[26,3,26,5],[12,18,12,22],[12,3,12,5],[12,6,12,10],[8,1,8,2],[8,13,8,14],[8,18,8,22],[1,1,1,2],[5,6,5,10],[5,15,5,17],[5,18,5,22],[1,13,1,14],[5,3,5,5],[1,15,1,17],[1,18,1,22],[1,6,1,10],[1,3,1,5],[29,13,29,14],[29,15,29,17],[29,18,29,22],[33,15,33,17],[33,18,33,22]]}
[]
[null,{"$f":"Scheidsrechtersblad!$L$10","v":"BVLBH01/002"},null,"scheidsrechter:",null,null,{"$f":"Scheidsrechtersblad!$B$16","v":0},null,null,null,null,null,null,{"$f":"Scheidsrechtersblad!$L$10","v":"BVLBH01/002"},null,"scheidsrechter:",null,null,{"$f":"Scheidsrechtersblad!$L$18","v":0}]
[null,"Wedstrijd 1","3 - 2","set 1","set 2","set 3","set 4","set 5","set 6","set 7","tot.",null,null,"Wedstrijd 2","2 - 1","set 1","set 2","set 3","set 4","set 5","set 6","set 7","tot."]
[null,{"$f":"Scheidsrechtersblad!$B$18","v":0},{"$f":"Scheidsrechtersblad!$H$18","v":0},null,null,null,null,null,null,null,null,null,null,{"$f":"Scheidsrechtersblad!$B$17","v":0},{"$f":"Scheidsrechtersblad!$H$17","v":0}]
[null,{"$f":"Scheidsrechtersblad!$L$17","v":0},{"$f":"Scheidsrechtersblad!$Q$17","v":0},null,null,null,null,null,null,null,null,null,null,{"$f":"Scheidsrechtersblad!$L$16","v":0},{"$f":"Scheidsrechtersblad!$Q$16","v":0}]
[null,"handicap:",{"$f":"Scheidsrechtersblad!$D$21","v":""},"winnaar:",null,null,null,null,null,null,null,null,null,"handicap:",{"$f":"Scheidsrechtersblad!$D$22","v":""},"winnaar:"]
[]
[]
[null,{"$f":"Scheidsrechtersblad!$L$10","v":"BVLBH01/002"},null,"scheidsrechter:",null,null,{"$f":"Scheidsrechtersblad!$B$17","v":0},null,null,null,null,null,null,{"$f":"Scheidsrechtersblad!$L$10","v":"BVLBH01/002"},null,"scheidsrechter:",null,null,{"$f":"Scheidsrechtersblad!$L$17","v":0}]
[null,"Wedstrijd 3","1 - 3","set 1","set 2","set 3","set 4","set 5","set 6","set 7","tot.",null,null,"Wedstrijd 4","3 - 1","set 1","set 2","set 3","set 4","set 5","set 6","set 7","tot."]
[null,{"$f":"Scheidsrechtersblad!$B$16","v":0},{"$f":"Scheidsrechtersblad!$H$16","v":0},null,null,null,null,null,null,null,null,null,null,{"$f":"Scheidsrechtersblad!$B$18","v":0},{"$f":"Scheidsrechtersblad!$H$18","v":0}]
[null,{"$f":"Scheidsrechtersblad!$L$18","v":0},{"$f":"Scheidsrechtersblad!$Q$18","v":0},null,null,null,null,null,null,null,null,null,null,{"$f":"Scheidsrechtersblad!$L$16","v":0},{"$f":"Scheidsrechtersblad!$Q$16","v":0}]
[null,"handicap:",{"$f":"Scheidsrechtersblad!$D$23","v":""},"winnaar:",null,null,null,null,null,null,null,null,null,"handicap:",{"$f":"Scheidsrechtersblad!$D$24","v":""},"winnaar:"]
[]
[]
[null,{"$f":"Scheidsrechtersblad!$L$10","v":"BVLBH01/002"},null,"scheidsrechter:",null,null,{"$f":"Scheidsrechtersblad!$B$18","v":0},null,null,null,null,null,null,{"$f":"Scheidsrechtersblad!$L$10","v":"BVLBH01/002"},null,"scheidsrechter:",null,null,{"$f":"Scheidsrechtersblad!$L$16","v":0}]
[null,"Wedstrijd 5","2 - 3","set 1","set 2","set 3","set 4","set 5","set 6","set 7","tot.",null,null,"Wedstrijd 6","1 - 2","set 1","set 2","set 3","set 4","set 5","set 6","set 7","tot."]
[null,{"$f":"Scheidsrechtersblad!$B$17","v":0},{"$f":"Scheidsrechtersblad!$H$17","v":0},null,null,null,null,null,null,null,null,null,null,{"$f":"Scheidsrechtersblad!$B$16","v":0},{"$f":"Scheidsrechtersblad!$H$16","v":0}]
[null,{"$f":"Scheidsrechtersblad!$L$18","v":0},{"$f":"Scheidsrechtersblad!$Q$18","v":0},null,null,null,null,null,null,null,null,null,null,{"$f":"Scheidsrechtersblad!$L$17","v":0},{"$f":"Scheidsrechtersblad!$Q$17","v":0}]
[null,"handicap:",{"$f":"Scheidsrechtersblad!$D$25","v":""},"winnaar:",null,null,null,null,null,null,null,null,null,"handicap:",{"$f":"Scheidsrechtersblad!$D$26","v":""},"winnaar:"]
[]
[]
[null,{"$f":"Scheidsrechtersblad!$L$10","v":"BVLBH01/002"},null,"scheidsrechter:",null,null,{"$f":"Scheidsrechtersblad!$B$17","v":0},null,null,null,null,null,null,{"$f":"Scheidsrechtersblad!$L$10","v":"BVLBH01/002"},null,"scheidsrechter:",null,null,{"$f":"Scheidsrechtersblad!$L$18","v":0}]
[null,"Wedstrijd 7","3 - 3","set 1","set 2","set 3","set 4","set 5","set 6","set 7","tot.",null,null,"Wedstrijd 8","2 - 2","set 1","set 2","set 3","set 4","set 5","set 6","set 7","tot."]
[null,{"$f":"Scheidsrechtersblad!$B$18","v":0},{"$f":"Scheidsrechtersblad!$H$18","v":0},null,null,null,null,null,null,null,null,null,null,{"$f":"Scheidsrechtersblad!$B$17","v":0},{"$f":"Scheidsrechtersblad!$H$17","v":0}]
[null,{"$f":"Scheidsrechtersblad!$L$18","v":0},{"$f":"Scheidsrechtersblad!$Q$18","v":0},null,null,null,null,null,null,null,null,null,null,{"$f":"Scheidsrechtersblad!$L$17","v":0},{"$f":"Scheidsrechtersblad!$Q$17","v":0}]
[null,"handicap:",{"$f":"Scheidsrechtersblad!$D$27","v":""},"winnaar:",null,null,null,null,null,null,null,null,null,"handicap:",{"$f":"Scheidsrechtersblad!$D$28","v":""},"winnaar:"]
[]
[]
[null,{"$f":"Scheidsrechtersblad!$L$10","v":"BVLBH01/002"},null,"scheidsrechter:",null,null,{"$f":"Scheidsrechtersblad!$B$18","v":0},null,null,null,null,null,null,null,null,"scheidsrechter:"]
[null,"Wedstrijd 9","1 - 1","set 1","set 2","set 3","set 4","set 5","set 6","set 7","tot.",null,null,"Wedstrijd",null,"set 1","set 2","set 3","set 4","set 5","set 6","set 7","tot."]
[null,{"$f":"Scheidsrechtersblad!$B$16","v":0},{"$f":"Scheidsrechtersblad!$H$16","v":0}]
[null,{"$f":"Scheidsrechtersblad!$L$16","v":0},{"$f":"Scheidsrechtersblad!$Q$16","v":0}]
[null,"handicap:",{"$f":"Scheidsrechtersblad!$D$29","v":""},"Winnaar:",null,null,null,null,null,null,null,null,null,"handicap:",{"$f":"Scheidsrechtersblad!$D$29","v":""},"Winnaar:"]

{"sheet":"handicap_heren","index":2,"n_rows":19,"n_cols":19,"rows_kept":19,"cut":false,"hidden":false,"merged":[]}
[null,"A","B0","B2","B4","B6","C0","C2","C4","C6","D0","D2","D4","D6","E0","E2","E4","E6","NG"]
["A",0,-1,-1,-2,-2,-3,-3,-4,-4,-5,-5,-6,-6,-7,-7,-8,-8,-9]
["B0",1,0,-1,-1,-2,-2,-3,-3,-4,-4,-5,-5,-6,-6,-7,-7,-8,-8]
["B2",1,1,0,-1,-1,-2,-2,-3,-3,-4,-4,-5,-5,-6,-6,-7,-7,-8]
["B4",2,1,1,0,-1,-1,-2,-2,-3,-3,-4,-4,-5,-5,-6,-6,-7,-7]
["B6",2,2,1,1,0,-1,-1,-2,-2,-3,-3,-4,-4,-5,-5,-6,-6,-7]
["C0",3,2,2,1,1,0,-1,-1,-2,-2,-3,-3,-4,-4,-5,-5,-6,-6]
["C2",3,3,2,2,1,1,0,-1,-1,-2,-2,-3,-3,-4,-4,-5,-5,-6]
["C4",4,3,3,2,2,1,1,0,-1,-1,-2,-2,-3,-3,-4,-4,-5,-5]
["C6",4,4,3,3,2,2,1,1,0,-1,-1,-2,-2,-3,-3,-4,-4,-5]
["D0",5,4,4,3,3,2,2,1,1,0,-1,-1,-2,-2,-3,-3,-4,-4]
["D2",5,5,4,4,3,3,2,2,1,1,0,-1,-1,-2,-2,-3,-3,-4]
["D4",6,5,5,4,4,3,3,2,2,1,1,0,-1,-1,-2,-2,-3,-3]
["D6",6,6,5,5,4,4,3,3,2,2,1,1,0,-1,-1,-2,-2,-3]
["E0",7,6,6,5,5,4,4,3,3,2,2,1,1,0,-1,-1,-2,-2]
["E2",7,7,6,6,5,5,4,4,3,3,2,2,1,1,0,-1,-1,-2]
["E4",8,7,7,6,6,5,5,4,4,3,3,2,2,1,1,0,-1,-1]
["E6",8,8,7,7,6,6,5,5,4,4,3,3,2,2,1,1,0,-1]
["NG",9,8,8,7,7,6,6,5,5,4,4,3,3,2,2,1,1,0]

{"sheet":"handicap_dames","index":3,"n_rows":15,"n_cols":15,"rows_kept":15,"cut":false,"hidden":false,"merged":[]}
[null,"A","B0","B2","B4","B6","C0","C2","C4","C6","D0","D2","D4","D6","NG"]
["A",0,-1,-2,-2,-3,-4,-4,-5,-6,-6,-7,-8,-8,-9]
["B0",1,0,-1,-2,-2,-3,-4,-4,-5,-6,-6,-7,-8,-8]
["B2",2,1,0,-1,-2,-2,-3,-4,-4,-5,-6,-7,-8,-8]
["B4",2,2,1,0,-1,-2,-2,-3,-4,-4,-5,-6,-6,-7]
["B6",3,2,2,1,0,-1,-2,-2,-3,-4,-4,-5,-6,-6]
["C0",4,3,2,2,1,0,-1,-2,-2,-3,-4,-4,-5,-6]
["C2",4,4,3,2,2,1,0,-1,-2,-2,-3,-4,-4,-5]
["C4",5,4,4,3,2,2,1,0,-1,-2,-2,-3,-4,-4]
["C6",6,5,4,4,3,2,2,1,0,-1,-2,-2,-3,-4]
["D0",6,6,5,4,4,3,2,2,1,0,-1,-2,-2,-3]
["D2",7,6,6,5,4,4,3,2,2,1,0,-1,-2,-2]
["D4",8,7,6,6,5,4,4,3,2,2,1,0,-1,-2]
["D6",8,8,7,6,6,5,4,4,3,2,2,1,0,{"$f":"-N15","v":-1}]
["NG",9,8,8,7,6,6,5,4,4,3,2,2,1,0]